BEGIN:VCALENDAR
VERSION:2.0
PRODID:https://www.kufer.de/kuferweb / DE
METHOD:PUBLISH
CALSCALE:GREGORIAN
X-WR-TIMEZONE:Europe/Berlin
BEGIN:VTIMEZONE
TZID:Europe/Berlin
X-LIC-LOCATION:Europe/Berlin
BEGIN:DAYLIGHT
TZOFFSETFROM:+0100
TZOFFSETTO:+0200
TZNAME:CEST
DTSTART:19700329T020000
RRULE:FREQ=YEARLY;INTERVAL=1;BYDAY=-1SU;BYMONTH=3
END:DAYLIGHT
BEGIN:STANDARD
TZOFFSETFROM:+0200
TZOFFSETTO:+0100
TZNAME:CET
DTSTART:19701025T030000
RRULE:FREQ=YEARLY;INTERVAL=1;BYDAY=-1SU;BYMONTH=10
END:STANDARD
END:VTIMEZONE
BEGIN:VEVENT
DTSTAMP:20260423T165146
DTSTART;TZID=Europe/Berlin:20260224T191000
DTEND;TZID=Europe/Berlin:20260224T204000
UID:261-42250-20260224T191000@VHSWALDSHUT-TIENGEN
SUMMARY:Spanisch für Fortgeschrittene mit guten Kenntnissen - GER Stufe B1.1 (261-42250) 
LOCATION:Robert Schuman Realschule Waldshut; Zi. 15
END:VEVENT
BEGIN:VEVENT
DTSTAMP:20260423T165146
DTSTART;TZID=Europe/Berlin:20260303T191000
DTEND;TZID=Europe/Berlin:20260303T204000
UID:261-42250-20260303T191000@VHSWALDSHUT-TIENGEN
SUMMARY:Spanisch für Fortgeschrittene mit guten Kenntnissen - GER Stufe B1.1 (261-42250) 
LOCATION:Robert Schuman Realschule Waldshut; Zi. 15
END:VEVENT
BEGIN:VEVENT
DTSTAMP:20260423T165146
DTSTART;TZID=Europe/Berlin:20260310T191000
DTEND;TZID=Europe/Berlin:20260310T204000
UID:261-42250-20260310T191000@VHSWALDSHUT-TIENGEN
SUMMARY:Spanisch für Fortgeschrittene mit guten Kenntnissen - GER Stufe B1.1 (261-42250) 
LOCATION:Robert Schuman Realschule Waldshut; Zi. 15
END:VEVENT
BEGIN:VEVENT
DTSTAMP:20260423T165146
DTSTART;TZID=Europe/Berlin:20260317T191000
DTEND;TZID=Europe/Berlin:20260317T204000
UID:261-42250-20260317T191000@VHSWALDSHUT-TIENGEN
SUMMARY:Spanisch für Fortgeschrittene mit guten Kenntnissen - GER Stufe B1.1 (261-42250) 
LOCATION:Robert Schuman Realschule Waldshut; Zi. 15
END:VEVENT
BEGIN:VEVENT
DTSTAMP:20260423T165146
DTSTART;TZID=Europe/Berlin:20260414T191000
DTEND;TZID=Europe/Berlin:20260414T204000
UID:261-42250-20260414T191000@VHSWALDSHUT-TIENGEN
SUMMARY:Spanisch für Fortgeschrittene mit guten Kenntnissen - GER Stufe B1.1 (261-42250) 
LOCATION:Robert Schuman Realschule Waldshut; Zi. 15
END:VEVENT
BEGIN:VEVENT
DTSTAMP:20260423T165146
DTSTART;TZID=Europe/Berlin:20260421T191000
DTEND;TZID=Europe/Berlin:20260421T204000
UID:261-42250-20260421T191000@VHSWALDSHUT-TIENGEN
SUMMARY:Spanisch für Fortgeschrittene mit guten Kenntnissen - GER Stufe B1.1 (261-42250) 
LOCATION:Robert Schuman Realschule Waldshut; Zi. 15
END:VEVENT
BEGIN:VEVENT
DTSTAMP:20260423T165146
DTSTART;TZID=Europe/Berlin:20260428T191000
DTEND;TZID=Europe/Berlin:20260428T204000
UID:261-42250-20260428T191000@VHSWALDSHUT-TIENGEN
SUMMARY:Spanisch für Fortgeschrittene mit guten Kenntnissen - GER Stufe B1.1 (261-42250) 
LOCATION:Robert Schuman Realschule Waldshut; Zi. 15
END:VEVENT
BEGIN:VEVENT
DTSTAMP:20260423T165146
DTSTART;TZID=Europe/Berlin:20260505T191000
DTEND;TZID=Europe/Berlin:20260505T204000
UID:261-42250-20260505T191000@VHSWALDSHUT-TIENGEN
SUMMARY:Spanisch für Fortgeschrittene mit guten Kenntnissen - GER Stufe B1.1 (261-42250) 
LOCATION:Robert Schuman Realschule Waldshut; Zi. 15
END:VEVENT
BEGIN:VEVENT
DTSTAMP:20260423T165146
DTSTART;TZID=Europe/Berlin:20260512T191000
DTEND;TZID=Europe/Berlin:20260512T204000
UID:261-42250-20260512T191000@VHSWALDSHUT-TIENGEN
SUMMARY:Spanisch für Fortgeschrittene mit guten Kenntnissen - GER Stufe B1.1 (261-42250) 
LOCATION:Robert Schuman Realschule Waldshut; Zi. 15
END:VEVENT
BEGIN:VEVENT
DTSTAMP:20260423T165146
DTSTART;TZID=Europe/Berlin:20260519T191000
DTEND;TZID=Europe/Berlin:20260519T204000
UID:261-42250-20260519T191000@VHSWALDSHUT-TIENGEN
SUMMARY:Spanisch für Fortgeschrittene mit guten Kenntnissen - GER Stufe B1.1 (261-42250) 
LOCATION:Robert Schuman Realschule Waldshut; Zi. 15
END:VEVENT
BEGIN:VEVENT
DTSTAMP:20260423T165146
DTSTART;TZID=Europe/Berlin:20260609T191000
DTEND;TZID=Europe/Berlin:20260609T204000
UID:261-42250-20260609T191000@VHSWALDSHUT-TIENGEN
SUMMARY:Spanisch für Fortgeschrittene mit guten Kenntnissen - GER Stufe B1.1 (261-42250) 
LOCATION:Robert Schuman Realschule Waldshut; Zi. 15
END:VEVENT
BEGIN:VEVENT
DTSTAMP:20260423T165146
DTSTART;TZID=Europe/Berlin:20260616T191000
DTEND;TZID=Europe/Berlin:20260616T204000
UID:261-42250-20260616T191000@VHSWALDSHUT-TIENGEN
SUMMARY:Spanisch für Fortgeschrittene mit guten Kenntnissen - GER Stufe B1.1 (261-42250) 
LOCATION:Robert Schuman Realschule Waldshut; Zi. 15
END:VEVENT
BEGIN:VEVENT
DTSTAMP:20260423T165146
DTSTART;TZID=Europe/Berlin:20260623T191000
DTEND;TZID=Europe/Berlin:20260623T204000
UID:261-42250-20260623T191000@VHSWALDSHUT-TIENGEN
SUMMARY:Spanisch für Fortgeschrittene mit guten Kenntnissen - GER Stufe B1.1 (261-42250) 
LOCATION:Robert Schuman Realschule Waldshut; Zi. 15
END:VEVENT
BEGIN:VEVENT
DTSTAMP:20260423T165146
DTSTART;TZID=Europe/Berlin:20260630T191000
DTEND;TZID=Europe/Berlin:20260630T204000
UID:261-42250-20260630T191000@VHSWALDSHUT-TIENGEN
SUMMARY:Spanisch für Fortgeschrittene mit guten Kenntnissen - GER Stufe B1.1 (261-42250) 
LOCATION:Robert Schuman Realschule Waldshut; Zi. 15
END:VEVENT
BEGIN:VEVENT
DTSTAMP:20260423T165146
DTSTART;TZID=Europe/Berlin:20260707T191000
DTEND;TZID=Europe/Berlin:20260707T204000
UID:261-42250-20260707T191000@VHSWALDSHUT-TIENGEN
SUMMARY:Spanisch für Fortgeschrittene mit guten Kenntnissen - GER Stufe B1.1 (261-42250) 
LOCATION:Robert Schuman Realschule Waldshut; Zi. 15
END:VEVENT
END:VCALENDAR