BEGIN:VCALENDAR
VERSION:2.0
PRODID:https://www.kufer.de/kuferweb / DE
METHOD:PUBLISH
CALSCALE:GREGORIAN
X-WR-TIMEZONE:Europe/Berlin
BEGIN:VTIMEZONE
TZID:Europe/Berlin
X-LIC-LOCATION:Europe/Berlin
BEGIN:DAYLIGHT
TZOFFSETFROM:+0100
TZOFFSETTO:+0200
TZNAME:CEST
DTSTART:19700329T020000
RRULE:FREQ=YEARLY;INTERVAL=1;BYDAY=-1SU;BYMONTH=3
END:DAYLIGHT
BEGIN:STANDARD
TZOFFSETFROM:+0200
TZOFFSETTO:+0100
TZNAME:CET
DTSTART:19701025T030000
RRULE:FREQ=YEARLY;INTERVAL=1;BYDAY=-1SU;BYMONTH=10
END:STANDARD
END:VTIMEZONE
BEGIN:VEVENT
DTSTAMP:20260423T163025
DTSTART;TZID=Europe/Berlin:20260226T180000
DTEND;TZID=Europe/Berlin:20260226T193000
UID:261-42200-20260226T180000@VHSWALDSHUT-TIENGEN
SUMMARY:Spanisch für absolute Anfänger*innen  - GER Stufe A1.1 (261-42200) 
LOCATION:Robert Schuman Realschule Waldshut; Zimmer 15, Friedrichstraße 11, 79761 Waldshut-Tiengen
END:VEVENT
BEGIN:VEVENT
DTSTAMP:20260423T163025
DTSTART;TZID=Europe/Berlin:20260305T180000
DTEND;TZID=Europe/Berlin:20260305T193000
UID:261-42200-20260305T180000@VHSWALDSHUT-TIENGEN
SUMMARY:Spanisch für absolute Anfänger*innen  - GER Stufe A1.1 (261-42200) 
LOCATION:Robert Schuman Realschule Waldshut; Zimmer 15, Friedrichstraße 11, 79761 Waldshut-Tiengen
END:VEVENT
BEGIN:VEVENT
DTSTAMP:20260423T163025
DTSTART;TZID=Europe/Berlin:20260312T180000
DTEND;TZID=Europe/Berlin:20260312T193000
UID:261-42200-20260312T180000@VHSWALDSHUT-TIENGEN
SUMMARY:Spanisch für absolute Anfänger*innen  - GER Stufe A1.1 (261-42200) 
LOCATION:Robert Schuman Realschule Waldshut; Zimmer 15, Friedrichstraße 11, 79761 Waldshut-Tiengen
END:VEVENT
BEGIN:VEVENT
DTSTAMP:20260423T163025
DTSTART;TZID=Europe/Berlin:20260319T180000
DTEND;TZID=Europe/Berlin:20260319T193000
UID:261-42200-20260319T180000@VHSWALDSHUT-TIENGEN
SUMMARY:Spanisch für absolute Anfänger*innen  - GER Stufe A1.1 (261-42200) 
LOCATION:Robert Schuman Realschule Waldshut; Zimmer 15, Friedrichstraße 11, 79761 Waldshut-Tiengen
END:VEVENT
BEGIN:VEVENT
DTSTAMP:20260423T163025
DTSTART;TZID=Europe/Berlin:20260416T180000
DTEND;TZID=Europe/Berlin:20260416T193000
UID:261-42200-20260416T180000@VHSWALDSHUT-TIENGEN
SUMMARY:Spanisch für absolute Anfänger*innen  - GER Stufe A1.1 (261-42200) 
LOCATION:Robert Schuman Realschule Waldshut; Zimmer 15, Friedrichstraße 11, 79761 Waldshut-Tiengen
END:VEVENT
BEGIN:VEVENT
DTSTAMP:20260423T163025
DTSTART;TZID=Europe/Berlin:20260423T180000
DTEND;TZID=Europe/Berlin:20260423T193000
UID:261-42200-20260423T180000@VHSWALDSHUT-TIENGEN
SUMMARY:Spanisch für absolute Anfänger*innen  - GER Stufe A1.1 (261-42200) 
LOCATION:Robert Schuman Realschule Waldshut; Zimmer 15, Friedrichstraße 11, 79761 Waldshut-Tiengen
END:VEVENT
BEGIN:VEVENT
DTSTAMP:20260423T163025
DTSTART;TZID=Europe/Berlin:20260507T180000
DTEND;TZID=Europe/Berlin:20260507T193000
UID:261-42200-20260507T180000@VHSWALDSHUT-TIENGEN
SUMMARY:Spanisch für absolute Anfänger*innen  - GER Stufe A1.1 (261-42200) 
LOCATION:Robert Schuman Realschule Waldshut; Zimmer 15, Friedrichstraße 11, 79761 Waldshut-Tiengen
END:VEVENT
BEGIN:VEVENT
DTSTAMP:20260423T163025
DTSTART;TZID=Europe/Berlin:20260521T180000
DTEND;TZID=Europe/Berlin:20260521T193000
UID:261-42200-20260521T180000@VHSWALDSHUT-TIENGEN
SUMMARY:Spanisch für absolute Anfänger*innen  - GER Stufe A1.1 (261-42200) 
LOCATION:Robert Schuman Realschule Waldshut; Zimmer 15, Friedrichstraße 11, 79761 Waldshut-Tiengen
END:VEVENT
BEGIN:VEVENT
DTSTAMP:20260423T163025
DTSTART;TZID=Europe/Berlin:20260611T180000
DTEND;TZID=Europe/Berlin:20260611T193000
UID:261-42200-20260611T180000@VHSWALDSHUT-TIENGEN
SUMMARY:Spanisch für absolute Anfänger*innen  - GER Stufe A1.1 (261-42200) 
LOCATION:Robert Schuman Realschule Waldshut; Zimmer 15, Friedrichstraße 11, 79761 Waldshut-Tiengen
END:VEVENT
BEGIN:VEVENT
DTSTAMP:20260423T163025
DTSTART;TZID=Europe/Berlin:20260618T180000
DTEND;TZID=Europe/Berlin:20260618T193000
UID:261-42200-20260618T180000@VHSWALDSHUT-TIENGEN
SUMMARY:Spanisch für absolute Anfänger*innen  - GER Stufe A1.1 (261-42200) 
LOCATION:Robert Schuman Realschule Waldshut; Zimmer 15, Friedrichstraße 11, 79761 Waldshut-Tiengen
END:VEVENT
BEGIN:VEVENT
DTSTAMP:20260423T163025
DTSTART;TZID=Europe/Berlin:20260625T180000
DTEND;TZID=Europe/Berlin:20260625T193000
UID:261-42200-20260625T180000@VHSWALDSHUT-TIENGEN
SUMMARY:Spanisch für absolute Anfänger*innen  - GER Stufe A1.1 (261-42200) 
LOCATION:Robert Schuman Realschule Waldshut; Zimmer 15, Friedrichstraße 11, 79761 Waldshut-Tiengen
END:VEVENT
BEGIN:VEVENT
DTSTAMP:20260423T163025
DTSTART;TZID=Europe/Berlin:20260702T180000
DTEND;TZID=Europe/Berlin:20260702T193000
UID:261-42200-20260702T180000@VHSWALDSHUT-TIENGEN
SUMMARY:Spanisch für absolute Anfänger*innen  - GER Stufe A1.1 (261-42200) 
LOCATION:Robert Schuman Realschule Waldshut; Zimmer 15, Friedrichstraße 11, 79761 Waldshut-Tiengen
END:VEVENT
BEGIN:VEVENT
DTSTAMP:20260423T163025
DTSTART;TZID=Europe/Berlin:20260709T180000
DTEND;TZID=Europe/Berlin:20260709T193000
UID:261-42200-20260709T180000@VHSWALDSHUT-TIENGEN
SUMMARY:Spanisch für absolute Anfänger*innen  - GER Stufe A1.1 (261-42200) 
LOCATION:Robert Schuman Realschule Waldshut; Zimmer 15, Friedrichstraße 11, 79761 Waldshut-Tiengen
END:VEVENT
END:VCALENDAR