BEGIN:VCALENDAR
VERSION:2.0
PRODID:https://www.kufer.de/kuferweb / DE
METHOD:PUBLISH
CALSCALE:GREGORIAN
X-WR-TIMEZONE:Europe/Berlin
BEGIN:VTIMEZONE
TZID:Europe/Berlin
X-LIC-LOCATION:Europe/Berlin
BEGIN:DAYLIGHT
TZOFFSETFROM:+0100
TZOFFSETTO:+0200
TZNAME:CEST
DTSTART:19700329T020000
RRULE:FREQ=YEARLY;INTERVAL=1;BYDAY=-1SU;BYMONTH=3
END:DAYLIGHT
BEGIN:STANDARD
TZOFFSETFROM:+0200
TZOFFSETTO:+0100
TZNAME:CET
DTSTART:19701025T030000
RRULE:FREQ=YEARLY;INTERVAL=1;BYDAY=-1SU;BYMONTH=10
END:STANDARD
END:VTIMEZONE
BEGIN:VEVENT
DTSTAMP:20260423T165259
DTSTART;TZID=Europe/Berlin:20260223T173000
DTEND;TZID=Europe/Berlin:20260223T190000
UID:261-40955-20260223T173000@VHSWALDSHUT-TIENGEN
SUMMARY:Italienisch für Fortgeschrittene mit guten Kenntnissen - GER Stufe B1.2 (261-40955) 
LOCATION:Robert Schuman Realschule Waldshut; Zimmer 10, Friedrichstrasse 11, 79761 Waldshut-Tiengen
END:VEVENT
BEGIN:VEVENT
DTSTAMP:20260423T165259
DTSTART;TZID=Europe/Berlin:20260302T173000
DTEND;TZID=Europe/Berlin:20260302T190000
UID:261-40955-20260302T173000@VHSWALDSHUT-TIENGEN
SUMMARY:Italienisch für Fortgeschrittene mit guten Kenntnissen - GER Stufe B1.2 (261-40955) 
LOCATION:Robert Schuman Realschule Waldshut; Zimmer 10, Friedrichstrasse 11, 79761 Waldshut-Tiengen
END:VEVENT
BEGIN:VEVENT
DTSTAMP:20260423T165259
DTSTART;TZID=Europe/Berlin:20260323T173000
DTEND;TZID=Europe/Berlin:20260323T190000
UID:261-40955-20260323T173000@VHSWALDSHUT-TIENGEN
SUMMARY:Italienisch für Fortgeschrittene mit guten Kenntnissen - GER Stufe B1.2 (261-40955) 
LOCATION:Robert Schuman Realschule Waldshut; Zimmer 10, Friedrichstrasse 11, 79761 Waldshut-Tiengen
END:VEVENT
BEGIN:VEVENT
DTSTAMP:20260423T165259
DTSTART;TZID=Europe/Berlin:20260413T173000
DTEND;TZID=Europe/Berlin:20260413T190000
UID:261-40955-20260413T173000@VHSWALDSHUT-TIENGEN
SUMMARY:Italienisch für Fortgeschrittene mit guten Kenntnissen - GER Stufe B1.2 (261-40955) 
LOCATION:Robert Schuman Realschule Waldshut; Zimmer 10, Friedrichstrasse 11, 79761 Waldshut-Tiengen
END:VEVENT
BEGIN:VEVENT
DTSTAMP:20260423T165259
DTSTART;TZID=Europe/Berlin:20260511T173000
DTEND;TZID=Europe/Berlin:20260511T190000
UID:261-40955-20260511T173000@VHSWALDSHUT-TIENGEN
SUMMARY:Italienisch für Fortgeschrittene mit guten Kenntnissen - GER Stufe B1.2 (261-40955) 
LOCATION:Robert Schuman Realschule Waldshut; Zimmer 10, Friedrichstrasse 11, 79761 Waldshut-Tiengen
END:VEVENT
BEGIN:VEVENT
DTSTAMP:20260423T165259
DTSTART;TZID=Europe/Berlin:20260518T173000
DTEND;TZID=Europe/Berlin:20260518T190000
UID:261-40955-20260518T173000@VHSWALDSHUT-TIENGEN
SUMMARY:Italienisch für Fortgeschrittene mit guten Kenntnissen - GER Stufe B1.2 (261-40955) 
LOCATION:Robert Schuman Realschule Waldshut; Zimmer 10, Friedrichstrasse 11, 79761 Waldshut-Tiengen
END:VEVENT
BEGIN:VEVENT
DTSTAMP:20260423T165259
DTSTART;TZID=Europe/Berlin:20260615T173000
DTEND;TZID=Europe/Berlin:20260615T190000
UID:261-40955-20260615T173000@VHSWALDSHUT-TIENGEN
SUMMARY:Italienisch für Fortgeschrittene mit guten Kenntnissen - GER Stufe B1.2 (261-40955) 
LOCATION:Robert Schuman Realschule Waldshut; Zimmer 10, Friedrichstrasse 11, 79761 Waldshut-Tiengen
END:VEVENT
BEGIN:VEVENT
DTSTAMP:20260423T165259
DTSTART;TZID=Europe/Berlin:20260622T173000
DTEND;TZID=Europe/Berlin:20260622T190000
UID:261-40955-20260622T173000@VHSWALDSHUT-TIENGEN
SUMMARY:Italienisch für Fortgeschrittene mit guten Kenntnissen - GER Stufe B1.2 (261-40955) 
LOCATION:Robert Schuman Realschule Waldshut; Zimmer 10, Friedrichstrasse 11, 79761 Waldshut-Tiengen
END:VEVENT
BEGIN:VEVENT
DTSTAMP:20260423T165259
DTSTART;TZID=Europe/Berlin:20260629T173000
DTEND;TZID=Europe/Berlin:20260629T190000
UID:261-40955-20260629T173000@VHSWALDSHUT-TIENGEN
SUMMARY:Italienisch für Fortgeschrittene mit guten Kenntnissen - GER Stufe B1.2 (261-40955) 
LOCATION:Robert Schuman Realschule Waldshut; Zimmer 10, Friedrichstrasse 11, 79761 Waldshut-Tiengen
END:VEVENT
END:VCALENDAR