BEGIN:VCALENDAR
VERSION:2.0
PRODID:https://www.kufer.de/kuferweb / DE
METHOD:PUBLISH
CALSCALE:GREGORIAN
X-WR-TIMEZONE:Europe/Berlin
BEGIN:VTIMEZONE
TZID:Europe/Berlin
X-LIC-LOCATION:Europe/Berlin
BEGIN:DAYLIGHT
TZOFFSETFROM:+0100
TZOFFSETTO:+0200
TZNAME:CEST
DTSTART:19700329T020000
RRULE:FREQ=YEARLY;INTERVAL=1;BYDAY=-1SU;BYMONTH=3
END:DAYLIGHT
BEGIN:STANDARD
TZOFFSETFROM:+0200
TZOFFSETTO:+0100
TZNAME:CET
DTSTART:19701025T030000
RRULE:FREQ=YEARLY;INTERVAL=1;BYDAY=-1SU;BYMONTH=10
END:STANDARD
END:VTIMEZONE
BEGIN:VEVENT
DTSTAMP:20260423T163210
DTSTART;TZID=Europe/Berlin:20260226T181500
DTEND;TZID=Europe/Berlin:20260226T194500
UID:261-40821-20260226T181500@VHSWALDSHUT-TIENGEN
SUMMARY:Französisch für Anfänger*innen mit Vorkenntnissen - GER Stufe A1.3/A2 (261-40821) 
LOCATION:Robert Schuman Realschule Waldshut; Zimmer 14, Friedrichstraße 11, 79761 Waldshut-Tiengen
END:VEVENT
BEGIN:VEVENT
DTSTAMP:20260423T163210
DTSTART;TZID=Europe/Berlin:20260305T181500
DTEND;TZID=Europe/Berlin:20260305T194500
UID:261-40821-20260305T181500@VHSWALDSHUT-TIENGEN
SUMMARY:Französisch für Anfänger*innen mit Vorkenntnissen - GER Stufe A1.3/A2 (261-40821) 
LOCATION:Robert Schuman Realschule Waldshut; Zimmer 14, Friedrichstraße 11, 79761 Waldshut-Tiengen
END:VEVENT
BEGIN:VEVENT
DTSTAMP:20260423T163210
DTSTART;TZID=Europe/Berlin:20260312T181500
DTEND;TZID=Europe/Berlin:20260312T194500
UID:261-40821-20260312T181500@VHSWALDSHUT-TIENGEN
SUMMARY:Französisch für Anfänger*innen mit Vorkenntnissen - GER Stufe A1.3/A2 (261-40821) 
LOCATION:Robert Schuman Realschule Waldshut; Zimmer 14, Friedrichstraße 11, 79761 Waldshut-Tiengen
END:VEVENT
BEGIN:VEVENT
DTSTAMP:20260423T163210
DTSTART;TZID=Europe/Berlin:20260319T181500
DTEND;TZID=Europe/Berlin:20260319T194500
UID:261-40821-20260319T181500@VHSWALDSHUT-TIENGEN
SUMMARY:Französisch für Anfänger*innen mit Vorkenntnissen - GER Stufe A1.3/A2 (261-40821) 
LOCATION:Robert Schuman Realschule Waldshut; Zimmer 14, Friedrichstraße 11, 79761 Waldshut-Tiengen
END:VEVENT
BEGIN:VEVENT
DTSTAMP:20260423T163210
DTSTART;TZID=Europe/Berlin:20260326T181500
DTEND;TZID=Europe/Berlin:20260326T194500
UID:261-40821-20260326T181500@VHSWALDSHUT-TIENGEN
SUMMARY:Französisch für Anfänger*innen mit Vorkenntnissen - GER Stufe A1.3/A2 (261-40821) 
LOCATION:Robert Schuman Realschule Waldshut; Zimmer 14, Friedrichstraße 11, 79761 Waldshut-Tiengen
END:VEVENT
BEGIN:VEVENT
DTSTAMP:20260423T163210
DTSTART;TZID=Europe/Berlin:20260416T181500
DTEND;TZID=Europe/Berlin:20260416T194500
UID:261-40821-20260416T181500@VHSWALDSHUT-TIENGEN
SUMMARY:Französisch für Anfänger*innen mit Vorkenntnissen - GER Stufe A1.3/A2 (261-40821) 
LOCATION:Robert Schuman Realschule Waldshut; Zimmer 14, Friedrichstraße 11, 79761 Waldshut-Tiengen
END:VEVENT
BEGIN:VEVENT
DTSTAMP:20260423T163210
DTSTART;TZID=Europe/Berlin:20260423T181500
DTEND;TZID=Europe/Berlin:20260423T194500
UID:261-40821-20260423T181500@VHSWALDSHUT-TIENGEN
SUMMARY:Französisch für Anfänger*innen mit Vorkenntnissen - GER Stufe A1.3/A2 (261-40821) 
LOCATION:Robert Schuman Realschule Waldshut; Zimmer 14, Friedrichstraße 11, 79761 Waldshut-Tiengen
END:VEVENT
BEGIN:VEVENT
DTSTAMP:20260423T163210
DTSTART;TZID=Europe/Berlin:20260507T181500
DTEND;TZID=Europe/Berlin:20260507T194500
UID:261-40821-20260507T181500@VHSWALDSHUT-TIENGEN
SUMMARY:Französisch für Anfänger*innen mit Vorkenntnissen - GER Stufe A1.3/A2 (261-40821) 
LOCATION:Robert Schuman Realschule Waldshut; Zimmer 14, Friedrichstraße 11, 79761 Waldshut-Tiengen
END:VEVENT
BEGIN:VEVENT
DTSTAMP:20260423T163210
DTSTART;TZID=Europe/Berlin:20260521T181500
DTEND;TZID=Europe/Berlin:20260521T194500
UID:261-40821-20260521T181500@VHSWALDSHUT-TIENGEN
SUMMARY:Französisch für Anfänger*innen mit Vorkenntnissen - GER Stufe A1.3/A2 (261-40821) 
LOCATION:Robert Schuman Realschule Waldshut; Zimmer 14, Friedrichstraße 11, 79761 Waldshut-Tiengen
END:VEVENT
END:VCALENDAR