BEGIN:VCALENDAR
VERSION:2.0
PRODID:https://www.kufer.de/kuferweb / DE
METHOD:PUBLISH
CALSCALE:GREGORIAN
X-WR-TIMEZONE:Europe/Berlin
BEGIN:VTIMEZONE
TZID:Europe/Berlin
X-LIC-LOCATION:Europe/Berlin
BEGIN:DAYLIGHT
TZOFFSETFROM:+0100
TZOFFSETTO:+0200
TZNAME:CEST
DTSTART:19700329T020000
RRULE:FREQ=YEARLY;INTERVAL=1;BYDAY=-1SU;BYMONTH=3
END:DAYLIGHT
BEGIN:STANDARD
TZOFFSETFROM:+0200
TZOFFSETTO:+0100
TZNAME:CET
DTSTART:19701025T030000
RRULE:FREQ=YEARLY;INTERVAL=1;BYDAY=-1SU;BYMONTH=10
END:STANDARD
END:VTIMEZONE
BEGIN:VEVENT
DTSTAMP:20260423T163026
DTSTART;TZID=Europe/Berlin:20260304T174500
DTEND;TZID=Europe/Berlin:20260304T191500
UID:261-40650-20260304T174500@VHSWALDSHUT-TIENGEN
SUMMARY:Englisch für Fortgeschrittene mit guten Kenntnissen - GER Stufe B1.1 (261-40650) 
LOCATION:Robert Schuman Realschule Waldshut; Zi. 10
END:VEVENT
BEGIN:VEVENT
DTSTAMP:20260423T163026
DTSTART;TZID=Europe/Berlin:20260311T174500
DTEND;TZID=Europe/Berlin:20260311T191500
UID:261-40650-20260311T174500@VHSWALDSHUT-TIENGEN
SUMMARY:Englisch für Fortgeschrittene mit guten Kenntnissen - GER Stufe B1.1 (261-40650) 
LOCATION:Robert Schuman Realschule Waldshut; Zi. 10
END:VEVENT
BEGIN:VEVENT
DTSTAMP:20260423T163026
DTSTART;TZID=Europe/Berlin:20260318T174500
DTEND;TZID=Europe/Berlin:20260318T191500
UID:261-40650-20260318T174500@VHSWALDSHUT-TIENGEN
SUMMARY:Englisch für Fortgeschrittene mit guten Kenntnissen - GER Stufe B1.1 (261-40650) 
LOCATION:Robert Schuman Realschule Waldshut; Zi. 10
END:VEVENT
BEGIN:VEVENT
DTSTAMP:20260423T163026
DTSTART;TZID=Europe/Berlin:20260325T174500
DTEND;TZID=Europe/Berlin:20260325T191500
UID:261-40650-20260325T174500@VHSWALDSHUT-TIENGEN
SUMMARY:Englisch für Fortgeschrittene mit guten Kenntnissen - GER Stufe B1.1 (261-40650) 
LOCATION:Robert Schuman Realschule Waldshut; Zi. 10
END:VEVENT
BEGIN:VEVENT
DTSTAMP:20260423T163026
DTSTART;TZID=Europe/Berlin:20260415T174500
DTEND;TZID=Europe/Berlin:20260415T191500
UID:261-40650-20260415T174500@VHSWALDSHUT-TIENGEN
SUMMARY:Englisch für Fortgeschrittene mit guten Kenntnissen - GER Stufe B1.1 (261-40650) 
LOCATION:Robert Schuman Realschule Waldshut; Zi. 10
END:VEVENT
BEGIN:VEVENT
DTSTAMP:20260423T163026
DTSTART;TZID=Europe/Berlin:20260429T174500
DTEND;TZID=Europe/Berlin:20260429T191500
UID:261-40650-20260429T174500@VHSWALDSHUT-TIENGEN
SUMMARY:Englisch für Fortgeschrittene mit guten Kenntnissen - GER Stufe B1.1 (261-40650) 
LOCATION:Robert Schuman Realschule Waldshut; Zi. 10
END:VEVENT
BEGIN:VEVENT
DTSTAMP:20260423T163026
DTSTART;TZID=Europe/Berlin:20260506T174500
DTEND;TZID=Europe/Berlin:20260506T191500
UID:261-40650-20260506T174500@VHSWALDSHUT-TIENGEN
SUMMARY:Englisch für Fortgeschrittene mit guten Kenntnissen - GER Stufe B1.1 (261-40650) 
LOCATION:Robert Schuman Realschule Waldshut; Zi. 10
END:VEVENT
BEGIN:VEVENT
DTSTAMP:20260423T163026
DTSTART;TZID=Europe/Berlin:20260520T174500
DTEND;TZID=Europe/Berlin:20260520T191500
UID:261-40650-20260520T174500@VHSWALDSHUT-TIENGEN
SUMMARY:Englisch für Fortgeschrittene mit guten Kenntnissen - GER Stufe B1.1 (261-40650) 
LOCATION:Robert Schuman Realschule Waldshut; Zi. 10
END:VEVENT
BEGIN:VEVENT
DTSTAMP:20260423T163026
DTSTART;TZID=Europe/Berlin:20260610T174500
DTEND;TZID=Europe/Berlin:20260610T191500
UID:261-40650-20260610T174500@VHSWALDSHUT-TIENGEN
SUMMARY:Englisch für Fortgeschrittene mit guten Kenntnissen - GER Stufe B1.1 (261-40650) 
LOCATION:Robert Schuman Realschule Waldshut; Zi. 10
END:VEVENT
BEGIN:VEVENT
DTSTAMP:20260423T163026
DTSTART;TZID=Europe/Berlin:20260617T174500
DTEND;TZID=Europe/Berlin:20260617T191500
UID:261-40650-20260617T174500@VHSWALDSHUT-TIENGEN
SUMMARY:Englisch für Fortgeschrittene mit guten Kenntnissen - GER Stufe B1.1 (261-40650) 
LOCATION:Robert Schuman Realschule Waldshut; Zi. 10
END:VEVENT
BEGIN:VEVENT
DTSTAMP:20260423T163026
DTSTART;TZID=Europe/Berlin:20260624T174500
DTEND;TZID=Europe/Berlin:20260624T191500
UID:261-40650-20260624T174500@VHSWALDSHUT-TIENGEN
SUMMARY:Englisch für Fortgeschrittene mit guten Kenntnissen - GER Stufe B1.1 (261-40650) 
LOCATION:Robert Schuman Realschule Waldshut; Zi. 10
END:VEVENT
BEGIN:VEVENT
DTSTAMP:20260423T163026
DTSTART;TZID=Europe/Berlin:20260701T174500
DTEND;TZID=Europe/Berlin:20260701T191500
UID:261-40650-20260701T174500@VHSWALDSHUT-TIENGEN
SUMMARY:Englisch für Fortgeschrittene mit guten Kenntnissen - GER Stufe B1.1 (261-40650) 
LOCATION:Robert Schuman Realschule Waldshut; Zi. 10
END:VEVENT
BEGIN:VEVENT
DTSTAMP:20260423T163026
DTSTART;TZID=Europe/Berlin:20260708T174500
DTEND;TZID=Europe/Berlin:20260708T191500
UID:261-40650-20260708T174500@VHSWALDSHUT-TIENGEN
DESCRIPTION:Ersatz für 22.04.26
SUMMARY:Englisch für Fortgeschrittene mit guten Kenntnissen - GER Stufe B1.1 (261-40650) 
LOCATION:Robert Schuman Realschule Waldshut; Zi. 10
END:VEVENT
END:VCALENDAR