BEGIN:VCALENDAR
VERSION:2.0
PRODID:https://www.kufer.de/kuferweb / DE
METHOD:PUBLISH
CALSCALE:GREGORIAN
X-WR-TIMEZONE:Europe/Berlin
BEGIN:VTIMEZONE
TZID:Europe/Berlin
X-LIC-LOCATION:Europe/Berlin
BEGIN:DAYLIGHT
TZOFFSETFROM:+0100
TZOFFSETTO:+0200
TZNAME:CEST
DTSTART:19700329T020000
RRULE:FREQ=YEARLY;INTERVAL=1;BYDAY=-1SU;BYMONTH=3
END:DAYLIGHT
BEGIN:STANDARD
TZOFFSETFROM:+0200
TZOFFSETTO:+0100
TZNAME:CET
DTSTART:19701025T030000
RRULE:FREQ=YEARLY;INTERVAL=1;BYDAY=-1SU;BYMONTH=10
END:STANDARD
END:VTIMEZONE
BEGIN:VEVENT
DTSTAMP:20260423T161644
DTSTART;TZID=Europe/Berlin:20260302T174500
DTEND;TZID=Europe/Berlin:20260302T191500
UID:261-40455-20260302T174500@VHSWALDSHUT-TIENGEN
SUMMARY:Deutsch als Fremdsprache für Fortgeschrittene mit guten Kenntnissen 2 x wöchentlich (Mo + Mi, je 2 Unterrichtsstunden) - GER Stufe B1.2 (261-40455) 
LOCATION:Robert Schuman Realschule Waldshut; Zimmer 14, Friedrichstraße 11, 79761 Waldshut-Tiengen
END:VEVENT
BEGIN:VEVENT
DTSTAMP:20260423T161644
DTSTART;TZID=Europe/Berlin:20260304T174500
DTEND;TZID=Europe/Berlin:20260304T191500
UID:261-40455-20260304T174500@VHSWALDSHUT-TIENGEN
SUMMARY:Deutsch als Fremdsprache für Fortgeschrittene mit guten Kenntnissen 2 x wöchentlich (Mo + Mi, je 2 Unterrichtsstunden) - GER Stufe B1.2 (261-40455) 
LOCATION:Robert Schuman Realschule Waldshut; Zimmer 14, Friedrichstraße 11, 79761 Waldshut-Tiengen
END:VEVENT
BEGIN:VEVENT
DTSTAMP:20260423T161644
DTSTART;TZID=Europe/Berlin:20260309T174500
DTEND;TZID=Europe/Berlin:20260309T191500
UID:261-40455-20260309T174500@VHSWALDSHUT-TIENGEN
SUMMARY:Deutsch als Fremdsprache für Fortgeschrittene mit guten Kenntnissen 2 x wöchentlich (Mo + Mi, je 2 Unterrichtsstunden) - GER Stufe B1.2 (261-40455) 
LOCATION:Robert Schuman Realschule Waldshut; Zimmer 14, Friedrichstraße 11, 79761 Waldshut-Tiengen
END:VEVENT
BEGIN:VEVENT
DTSTAMP:20260423T161644
DTSTART;TZID=Europe/Berlin:20260311T174500
DTEND;TZID=Europe/Berlin:20260311T191500
UID:261-40455-20260311T174500@VHSWALDSHUT-TIENGEN
SUMMARY:Deutsch als Fremdsprache für Fortgeschrittene mit guten Kenntnissen 2 x wöchentlich (Mo + Mi, je 2 Unterrichtsstunden) - GER Stufe B1.2 (261-40455) 
LOCATION:Robert Schuman Realschule Waldshut; Zimmer 14, Friedrichstraße 11, 79761 Waldshut-Tiengen
END:VEVENT
BEGIN:VEVENT
DTSTAMP:20260423T161644
DTSTART;TZID=Europe/Berlin:20260316T174500
DTEND;TZID=Europe/Berlin:20260316T191500
UID:261-40455-20260316T174500@VHSWALDSHUT-TIENGEN
SUMMARY:Deutsch als Fremdsprache für Fortgeschrittene mit guten Kenntnissen 2 x wöchentlich (Mo + Mi, je 2 Unterrichtsstunden) - GER Stufe B1.2 (261-40455) 
LOCATION:Robert Schuman Realschule Waldshut; Zimmer 14, Friedrichstraße 11, 79761 Waldshut-Tiengen
END:VEVENT
BEGIN:VEVENT
DTSTAMP:20260423T161644
DTSTART;TZID=Europe/Berlin:20260318T174500
DTEND;TZID=Europe/Berlin:20260318T191500
UID:261-40455-20260318T174500@VHSWALDSHUT-TIENGEN
SUMMARY:Deutsch als Fremdsprache für Fortgeschrittene mit guten Kenntnissen 2 x wöchentlich (Mo + Mi, je 2 Unterrichtsstunden) - GER Stufe B1.2 (261-40455) 
LOCATION:Robert Schuman Realschule Waldshut; Zimmer 14, Friedrichstraße 11, 79761 Waldshut-Tiengen
END:VEVENT
BEGIN:VEVENT
DTSTAMP:20260423T161644
DTSTART;TZID=Europe/Berlin:20260323T174500
DTEND;TZID=Europe/Berlin:20260323T191500
UID:261-40455-20260323T174500@VHSWALDSHUT-TIENGEN
SUMMARY:Deutsch als Fremdsprache für Fortgeschrittene mit guten Kenntnissen 2 x wöchentlich (Mo + Mi, je 2 Unterrichtsstunden) - GER Stufe B1.2 (261-40455) 
LOCATION:Robert Schuman Realschule Waldshut; Zimmer 14, Friedrichstraße 11, 79761 Waldshut-Tiengen
END:VEVENT
BEGIN:VEVENT
DTSTAMP:20260423T161644
DTSTART;TZID=Europe/Berlin:20260325T174500
DTEND;TZID=Europe/Berlin:20260325T191500
UID:261-40455-20260325T174500@VHSWALDSHUT-TIENGEN
SUMMARY:Deutsch als Fremdsprache für Fortgeschrittene mit guten Kenntnissen 2 x wöchentlich (Mo + Mi, je 2 Unterrichtsstunden) - GER Stufe B1.2 (261-40455) 
LOCATION:Robert Schuman Realschule Waldshut; Zimmer 14, Friedrichstraße 11, 79761 Waldshut-Tiengen
END:VEVENT
BEGIN:VEVENT
DTSTAMP:20260423T161644
DTSTART;TZID=Europe/Berlin:20260413T174500
DTEND;TZID=Europe/Berlin:20260413T191500
UID:261-40455-20260413T174500@VHSWALDSHUT-TIENGEN
SUMMARY:Deutsch als Fremdsprache für Fortgeschrittene mit guten Kenntnissen 2 x wöchentlich (Mo + Mi, je 2 Unterrichtsstunden) - GER Stufe B1.2 (261-40455) 
LOCATION:Robert Schuman Realschule Waldshut; Zimmer 14, Friedrichstraße 11, 79761 Waldshut-Tiengen
END:VEVENT
BEGIN:VEVENT
DTSTAMP:20260423T161644
DTSTART;TZID=Europe/Berlin:20260415T174500
DTEND;TZID=Europe/Berlin:20260415T191500
UID:261-40455-20260415T174500@VHSWALDSHUT-TIENGEN
SUMMARY:Deutsch als Fremdsprache für Fortgeschrittene mit guten Kenntnissen 2 x wöchentlich (Mo + Mi, je 2 Unterrichtsstunden) - GER Stufe B1.2 (261-40455) 
LOCATION:Robert Schuman Realschule Waldshut; Zimmer 14, Friedrichstraße 11, 79761 Waldshut-Tiengen
END:VEVENT
BEGIN:VEVENT
DTSTAMP:20260423T161644
DTSTART;TZID=Europe/Berlin:20260420T174500
DTEND;TZID=Europe/Berlin:20260420T191500
UID:261-40455-20260420T174500@VHSWALDSHUT-TIENGEN
SUMMARY:Deutsch als Fremdsprache für Fortgeschrittene mit guten Kenntnissen 2 x wöchentlich (Mo + Mi, je 2 Unterrichtsstunden) - GER Stufe B1.2 (261-40455) 
LOCATION:Robert Schuman Realschule Waldshut; Zimmer 14, Friedrichstraße 11, 79761 Waldshut-Tiengen
END:VEVENT
BEGIN:VEVENT
DTSTAMP:20260423T161644
DTSTART;TZID=Europe/Berlin:20260422T174500
DTEND;TZID=Europe/Berlin:20260422T191500
UID:261-40455-20260422T174500@VHSWALDSHUT-TIENGEN
SUMMARY:Deutsch als Fremdsprache für Fortgeschrittene mit guten Kenntnissen 2 x wöchentlich (Mo + Mi, je 2 Unterrichtsstunden) - GER Stufe B1.2 (261-40455) 
LOCATION:Robert Schuman Realschule Waldshut; Zimmer 14, Friedrichstraße 11, 79761 Waldshut-Tiengen
END:VEVENT
BEGIN:VEVENT
DTSTAMP:20260423T161644
DTSTART;TZID=Europe/Berlin:20260427T174500
DTEND;TZID=Europe/Berlin:20260427T191500
UID:261-40455-20260427T174500@VHSWALDSHUT-TIENGEN
SUMMARY:Deutsch als Fremdsprache für Fortgeschrittene mit guten Kenntnissen 2 x wöchentlich (Mo + Mi, je 2 Unterrichtsstunden) - GER Stufe B1.2 (261-40455) 
LOCATION:Robert Schuman Realschule Waldshut; Zimmer 14, Friedrichstraße 11, 79761 Waldshut-Tiengen
END:VEVENT
BEGIN:VEVENT
DTSTAMP:20260423T161644
DTSTART;TZID=Europe/Berlin:20260429T174500
DTEND;TZID=Europe/Berlin:20260429T191500
UID:261-40455-20260429T174500@VHSWALDSHUT-TIENGEN
SUMMARY:Deutsch als Fremdsprache für Fortgeschrittene mit guten Kenntnissen 2 x wöchentlich (Mo + Mi, je 2 Unterrichtsstunden) - GER Stufe B1.2 (261-40455) 
LOCATION:Robert Schuman Realschule Waldshut; Zimmer 14, Friedrichstraße 11, 79761 Waldshut-Tiengen
END:VEVENT
BEGIN:VEVENT
DTSTAMP:20260423T161644
DTSTART;TZID=Europe/Berlin:20260504T174500
DTEND;TZID=Europe/Berlin:20260504T191500
UID:261-40455-20260504T174500@VHSWALDSHUT-TIENGEN
SUMMARY:Deutsch als Fremdsprache für Fortgeschrittene mit guten Kenntnissen 2 x wöchentlich (Mo + Mi, je 2 Unterrichtsstunden) - GER Stufe B1.2 (261-40455) 
LOCATION:Robert Schuman Realschule Waldshut; Zimmer 14, Friedrichstraße 11, 79761 Waldshut-Tiengen
END:VEVENT
BEGIN:VEVENT
DTSTAMP:20260423T161644
DTSTART;TZID=Europe/Berlin:20260506T174500
DTEND;TZID=Europe/Berlin:20260506T191500
UID:261-40455-20260506T174500@VHSWALDSHUT-TIENGEN
SUMMARY:Deutsch als Fremdsprache für Fortgeschrittene mit guten Kenntnissen 2 x wöchentlich (Mo + Mi, je 2 Unterrichtsstunden) - GER Stufe B1.2 (261-40455) 
LOCATION:Robert Schuman Realschule Waldshut; Zimmer 14, Friedrichstraße 11, 79761 Waldshut-Tiengen
END:VEVENT
BEGIN:VEVENT
DTSTAMP:20260423T161644
DTSTART;TZID=Europe/Berlin:20260511T174500
DTEND;TZID=Europe/Berlin:20260511T191500
UID:261-40455-20260511T174500@VHSWALDSHUT-TIENGEN
SUMMARY:Deutsch als Fremdsprache für Fortgeschrittene mit guten Kenntnissen 2 x wöchentlich (Mo + Mi, je 2 Unterrichtsstunden) - GER Stufe B1.2 (261-40455) 
LOCATION:Robert Schuman Realschule Waldshut; Zimmer 14, Friedrichstraße 11, 79761 Waldshut-Tiengen
END:VEVENT
BEGIN:VEVENT
DTSTAMP:20260423T161644
DTSTART;TZID=Europe/Berlin:20260518T174500
DTEND;TZID=Europe/Berlin:20260518T191500
UID:261-40455-20260518T174500@VHSWALDSHUT-TIENGEN
SUMMARY:Deutsch als Fremdsprache für Fortgeschrittene mit guten Kenntnissen 2 x wöchentlich (Mo + Mi, je 2 Unterrichtsstunden) - GER Stufe B1.2 (261-40455) 
LOCATION:Robert Schuman Realschule Waldshut; Zimmer 14, Friedrichstraße 11, 79761 Waldshut-Tiengen
END:VEVENT
BEGIN:VEVENT
DTSTAMP:20260423T161644
DTSTART;TZID=Europe/Berlin:20260520T174500
DTEND;TZID=Europe/Berlin:20260520T191500
UID:261-40455-20260520T174500@VHSWALDSHUT-TIENGEN
SUMMARY:Deutsch als Fremdsprache für Fortgeschrittene mit guten Kenntnissen 2 x wöchentlich (Mo + Mi, je 2 Unterrichtsstunden) - GER Stufe B1.2 (261-40455) 
LOCATION:Robert Schuman Realschule Waldshut; Zimmer 14, Friedrichstraße 11, 79761 Waldshut-Tiengen
END:VEVENT
BEGIN:VEVENT
DTSTAMP:20260423T161644
DTSTART;TZID=Europe/Berlin:20260608T174500
DTEND;TZID=Europe/Berlin:20260608T191500
UID:261-40455-20260608T174500@VHSWALDSHUT-TIENGEN
SUMMARY:Deutsch als Fremdsprache für Fortgeschrittene mit guten Kenntnissen 2 x wöchentlich (Mo + Mi, je 2 Unterrichtsstunden) - GER Stufe B1.2 (261-40455) 
LOCATION:Robert Schuman Realschule Waldshut; Zimmer 14, Friedrichstraße 11, 79761 Waldshut-Tiengen
END:VEVENT
BEGIN:VEVENT
DTSTAMP:20260423T161644
DTSTART;TZID=Europe/Berlin:20260610T174500
DTEND;TZID=Europe/Berlin:20260610T191500
UID:261-40455-20260610T174500@VHSWALDSHUT-TIENGEN
SUMMARY:Deutsch als Fremdsprache für Fortgeschrittene mit guten Kenntnissen 2 x wöchentlich (Mo + Mi, je 2 Unterrichtsstunden) - GER Stufe B1.2 (261-40455) 
LOCATION:Robert Schuman Realschule Waldshut; Zimmer 14, Friedrichstraße 11, 79761 Waldshut-Tiengen
END:VEVENT
BEGIN:VEVENT
DTSTAMP:20260423T161644
DTSTART;TZID=Europe/Berlin:20260615T174500
DTEND;TZID=Europe/Berlin:20260615T191500
UID:261-40455-20260615T174500@VHSWALDSHUT-TIENGEN
SUMMARY:Deutsch als Fremdsprache für Fortgeschrittene mit guten Kenntnissen 2 x wöchentlich (Mo + Mi, je 2 Unterrichtsstunden) - GER Stufe B1.2 (261-40455) 
LOCATION:Robert Schuman Realschule Waldshut; Zimmer 14, Friedrichstraße 11, 79761 Waldshut-Tiengen
END:VEVENT
BEGIN:VEVENT
DTSTAMP:20260423T161644
DTSTART;TZID=Europe/Berlin:20260617T174500
DTEND;TZID=Europe/Berlin:20260617T191500
UID:261-40455-20260617T174500@VHSWALDSHUT-TIENGEN
SUMMARY:Deutsch als Fremdsprache für Fortgeschrittene mit guten Kenntnissen 2 x wöchentlich (Mo + Mi, je 2 Unterrichtsstunden) - GER Stufe B1.2 (261-40455) 
LOCATION:Robert Schuman Realschule Waldshut; Zimmer 14, Friedrichstraße 11, 79761 Waldshut-Tiengen
END:VEVENT
BEGIN:VEVENT
DTSTAMP:20260423T161644
DTSTART;TZID=Europe/Berlin:20260622T174500
DTEND;TZID=Europe/Berlin:20260622T191500
UID:261-40455-20260622T174500@VHSWALDSHUT-TIENGEN
SUMMARY:Deutsch als Fremdsprache für Fortgeschrittene mit guten Kenntnissen 2 x wöchentlich (Mo + Mi, je 2 Unterrichtsstunden) - GER Stufe B1.2 (261-40455) 
LOCATION:Robert Schuman Realschule Waldshut; Zimmer 14, Friedrichstraße 11, 79761 Waldshut-Tiengen
END:VEVENT
BEGIN:VEVENT
DTSTAMP:20260423T161644
DTSTART;TZID=Europe/Berlin:20260624T174500
DTEND;TZID=Europe/Berlin:20260624T191500
UID:261-40455-20260624T174500@VHSWALDSHUT-TIENGEN
SUMMARY:Deutsch als Fremdsprache für Fortgeschrittene mit guten Kenntnissen 2 x wöchentlich (Mo + Mi, je 2 Unterrichtsstunden) - GER Stufe B1.2 (261-40455) 
LOCATION:Robert Schuman Realschule Waldshut; Zimmer 14, Friedrichstraße 11, 79761 Waldshut-Tiengen
END:VEVENT
BEGIN:VEVENT
DTSTAMP:20260423T161644
DTSTART;TZID=Europe/Berlin:20260629T174500
DTEND;TZID=Europe/Berlin:20260629T191500
UID:261-40455-20260629T174500@VHSWALDSHUT-TIENGEN
SUMMARY:Deutsch als Fremdsprache für Fortgeschrittene mit guten Kenntnissen 2 x wöchentlich (Mo + Mi, je 2 Unterrichtsstunden) - GER Stufe B1.2 (261-40455) 
LOCATION:Robert Schuman Realschule Waldshut; Zimmer 14, Friedrichstraße 11, 79761 Waldshut-Tiengen
END:VEVENT
BEGIN:VEVENT
DTSTAMP:20260423T161644
DTSTART;TZID=Europe/Berlin:20260701T174500
DTEND;TZID=Europe/Berlin:20260701T191500
UID:261-40455-20260701T174500@VHSWALDSHUT-TIENGEN
SUMMARY:Deutsch als Fremdsprache für Fortgeschrittene mit guten Kenntnissen 2 x wöchentlich (Mo + Mi, je 2 Unterrichtsstunden) - GER Stufe B1.2 (261-40455) 
LOCATION:Robert Schuman Realschule Waldshut; Zimmer 14, Friedrichstraße 11, 79761 Waldshut-Tiengen
END:VEVENT
BEGIN:VEVENT
DTSTAMP:20260423T161644
DTSTART;TZID=Europe/Berlin:20260706T174500
DTEND;TZID=Europe/Berlin:20260706T191500
UID:261-40455-20260706T174500@VHSWALDSHUT-TIENGEN
SUMMARY:Deutsch als Fremdsprache für Fortgeschrittene mit guten Kenntnissen 2 x wöchentlich (Mo + Mi, je 2 Unterrichtsstunden) - GER Stufe B1.2 (261-40455) 
LOCATION:Robert Schuman Realschule Waldshut; Zimmer 14, Friedrichstraße 11, 79761 Waldshut-Tiengen
END:VEVENT
BEGIN:VEVENT
DTSTAMP:20260423T161644
DTSTART;TZID=Europe/Berlin:20260708T174500
DTEND;TZID=Europe/Berlin:20260708T191500
UID:261-40455-20260708T174500@VHSWALDSHUT-TIENGEN
SUMMARY:Deutsch als Fremdsprache für Fortgeschrittene mit guten Kenntnissen 2 x wöchentlich (Mo + Mi, je 2 Unterrichtsstunden) - GER Stufe B1.2 (261-40455) 
LOCATION:Robert Schuman Realschule Waldshut; Zimmer 14, Friedrichstraße 11, 79761 Waldshut-Tiengen
END:VEVENT
BEGIN:VEVENT
DTSTAMP:20260423T161644
DTSTART;TZID=Europe/Berlin:20260713T174500
DTEND;TZID=Europe/Berlin:20260713T191500
UID:261-40455-20260713T174500@VHSWALDSHUT-TIENGEN
SUMMARY:Deutsch als Fremdsprache für Fortgeschrittene mit guten Kenntnissen 2 x wöchentlich (Mo + Mi, je 2 Unterrichtsstunden) - GER Stufe B1.2 (261-40455) 
LOCATION:Robert Schuman Realschule Waldshut; Zimmer 14, Friedrichstraße 11, 79761 Waldshut-Tiengen
END:VEVENT
END:VCALENDAR