BEGIN:VCALENDAR
VERSION:2.0
PRODID:https://www.kufer.de/kuferweb / DE
METHOD:PUBLISH
CALSCALE:GREGORIAN
X-WR-TIMEZONE:Europe/Berlin
BEGIN:VTIMEZONE
TZID:Europe/Berlin
X-LIC-LOCATION:Europe/Berlin
BEGIN:DAYLIGHT
TZOFFSETFROM:+0100
TZOFFSETTO:+0200
TZNAME:CEST
DTSTART:19700329T020000
RRULE:FREQ=YEARLY;INTERVAL=1;BYDAY=-1SU;BYMONTH=3
END:DAYLIGHT
BEGIN:STANDARD
TZOFFSETFROM:+0200
TZOFFSETTO:+0100
TZNAME:CET
DTSTART:19701025T030000
RRULE:FREQ=YEARLY;INTERVAL=1;BYDAY=-1SU;BYMONTH=10
END:STANDARD
END:VTIMEZONE
BEGIN:VEVENT
DTSTAMP:20260423T163026
DTSTART;TZID=Europe/Berlin:20260302T180000
DTEND;TZID=Europe/Berlin:20260302T203000
UID:261-40430-20260302T180000@VHSWALDSHUT-TIENGEN
SUMMARY:Deutsch als Fremdsprache für leicht Fortgeschrittene 1 x wöchentlich (Mo, 3 Unterrichtsstunden) - GER Stufe A2.1 (261-40430) 
LOCATION:Robert Schuman Realschule Waldshut; Zimmer 15, Friedrichstraße 11, 79761 Waldshut-Tiengen
END:VEVENT
BEGIN:VEVENT
DTSTAMP:20260423T163026
DTSTART;TZID=Europe/Berlin:20260309T180000
DTEND;TZID=Europe/Berlin:20260309T203000
UID:261-40430-20260309T180000@VHSWALDSHUT-TIENGEN
SUMMARY:Deutsch als Fremdsprache für leicht Fortgeschrittene 1 x wöchentlich (Mo, 3 Unterrichtsstunden) - GER Stufe A2.1 (261-40430) 
LOCATION:Robert Schuman Realschule Waldshut; Zimmer 15, Friedrichstraße 11, 79761 Waldshut-Tiengen
END:VEVENT
BEGIN:VEVENT
DTSTAMP:20260423T163026
DTSTART;TZID=Europe/Berlin:20260316T180000
DTEND;TZID=Europe/Berlin:20260316T203000
UID:261-40430-20260316T180000@VHSWALDSHUT-TIENGEN
SUMMARY:Deutsch als Fremdsprache für leicht Fortgeschrittene 1 x wöchentlich (Mo, 3 Unterrichtsstunden) - GER Stufe A2.1 (261-40430) 
LOCATION:Robert Schuman Realschule Waldshut; Zimmer 15, Friedrichstraße 11, 79761 Waldshut-Tiengen
END:VEVENT
BEGIN:VEVENT
DTSTAMP:20260423T163026
DTSTART;TZID=Europe/Berlin:20260323T180000
DTEND;TZID=Europe/Berlin:20260323T203000
UID:261-40430-20260323T180000@VHSWALDSHUT-TIENGEN
SUMMARY:Deutsch als Fremdsprache für leicht Fortgeschrittene 1 x wöchentlich (Mo, 3 Unterrichtsstunden) - GER Stufe A2.1 (261-40430) 
LOCATION:Robert Schuman Realschule Waldshut; Zimmer 15, Friedrichstraße 11, 79761 Waldshut-Tiengen
END:VEVENT
BEGIN:VEVENT
DTSTAMP:20260423T163026
DTSTART;TZID=Europe/Berlin:20260413T180000
DTEND;TZID=Europe/Berlin:20260413T203000
UID:261-40430-20260413T180000@VHSWALDSHUT-TIENGEN
SUMMARY:Deutsch als Fremdsprache für leicht Fortgeschrittene 1 x wöchentlich (Mo, 3 Unterrichtsstunden) - GER Stufe A2.1 (261-40430) 
LOCATION:Robert Schuman Realschule Waldshut; Zimmer 15, Friedrichstraße 11, 79761 Waldshut-Tiengen
END:VEVENT
BEGIN:VEVENT
DTSTAMP:20260423T163026
DTSTART;TZID=Europe/Berlin:20260420T180000
DTEND;TZID=Europe/Berlin:20260420T203000
UID:261-40430-20260420T180000@VHSWALDSHUT-TIENGEN
SUMMARY:Deutsch als Fremdsprache für leicht Fortgeschrittene 1 x wöchentlich (Mo, 3 Unterrichtsstunden) - GER Stufe A2.1 (261-40430) 
LOCATION:Robert Schuman Realschule Waldshut; Zimmer 15, Friedrichstraße 11, 79761 Waldshut-Tiengen
END:VEVENT
BEGIN:VEVENT
DTSTAMP:20260423T163026
DTSTART;TZID=Europe/Berlin:20260427T180000
DTEND;TZID=Europe/Berlin:20260427T203000
UID:261-40430-20260427T180000@VHSWALDSHUT-TIENGEN
SUMMARY:Deutsch als Fremdsprache für leicht Fortgeschrittene 1 x wöchentlich (Mo, 3 Unterrichtsstunden) - GER Stufe A2.1 (261-40430) 
LOCATION:Robert Schuman Realschule Waldshut; Zimmer 15, Friedrichstraße 11, 79761 Waldshut-Tiengen
END:VEVENT
BEGIN:VEVENT
DTSTAMP:20260423T163026
DTSTART;TZID=Europe/Berlin:20260504T180000
DTEND;TZID=Europe/Berlin:20260504T203000
UID:261-40430-20260504T180000@VHSWALDSHUT-TIENGEN
SUMMARY:Deutsch als Fremdsprache für leicht Fortgeschrittene 1 x wöchentlich (Mo, 3 Unterrichtsstunden) - GER Stufe A2.1 (261-40430) 
LOCATION:Robert Schuman Realschule Waldshut; Zimmer 15, Friedrichstraße 11, 79761 Waldshut-Tiengen
END:VEVENT
BEGIN:VEVENT
DTSTAMP:20260423T163026
DTSTART;TZID=Europe/Berlin:20260511T180000
DTEND;TZID=Europe/Berlin:20260511T203000
UID:261-40430-20260511T180000@VHSWALDSHUT-TIENGEN
SUMMARY:Deutsch als Fremdsprache für leicht Fortgeschrittene 1 x wöchentlich (Mo, 3 Unterrichtsstunden) - GER Stufe A2.1 (261-40430) 
LOCATION:Robert Schuman Realschule Waldshut; Zimmer 15, Friedrichstraße 11, 79761 Waldshut-Tiengen
END:VEVENT
BEGIN:VEVENT
DTSTAMP:20260423T163026
DTSTART;TZID=Europe/Berlin:20260518T180000
DTEND;TZID=Europe/Berlin:20260518T203000
UID:261-40430-20260518T180000@VHSWALDSHUT-TIENGEN
SUMMARY:Deutsch als Fremdsprache für leicht Fortgeschrittene 1 x wöchentlich (Mo, 3 Unterrichtsstunden) - GER Stufe A2.1 (261-40430) 
LOCATION:Robert Schuman Realschule Waldshut; Zimmer 15, Friedrichstraße 11, 79761 Waldshut-Tiengen
END:VEVENT
BEGIN:VEVENT
DTSTAMP:20260423T163026
DTSTART;TZID=Europe/Berlin:20260608T180000
DTEND;TZID=Europe/Berlin:20260608T203000
UID:261-40430-20260608T180000@VHSWALDSHUT-TIENGEN
SUMMARY:Deutsch als Fremdsprache für leicht Fortgeschrittene 1 x wöchentlich (Mo, 3 Unterrichtsstunden) - GER Stufe A2.1 (261-40430) 
LOCATION:Robert Schuman Realschule Waldshut; Zimmer 15, Friedrichstraße 11, 79761 Waldshut-Tiengen
END:VEVENT
BEGIN:VEVENT
DTSTAMP:20260423T163026
DTSTART;TZID=Europe/Berlin:20260615T180000
DTEND;TZID=Europe/Berlin:20260615T203000
UID:261-40430-20260615T180000@VHSWALDSHUT-TIENGEN
SUMMARY:Deutsch als Fremdsprache für leicht Fortgeschrittene 1 x wöchentlich (Mo, 3 Unterrichtsstunden) - GER Stufe A2.1 (261-40430) 
LOCATION:Robert Schuman Realschule Waldshut; Zimmer 15, Friedrichstraße 11, 79761 Waldshut-Tiengen
END:VEVENT
END:VCALENDAR