BEGIN:VCALENDAR
VERSION:2.0
PRODID:https://www.kufer.de/kuferweb / DE
METHOD:PUBLISH
CALSCALE:GREGORIAN
X-WR-TIMEZONE:Europe/Berlin
BEGIN:VTIMEZONE
TZID:Europe/Berlin
X-LIC-LOCATION:Europe/Berlin
BEGIN:DAYLIGHT
TZOFFSETFROM:+0100
TZOFFSETTO:+0200
TZNAME:CEST
DTSTART:19700329T020000
RRULE:FREQ=YEARLY;INTERVAL=1;BYDAY=-1SU;BYMONTH=3
END:DAYLIGHT
BEGIN:STANDARD
TZOFFSETFROM:+0200
TZOFFSETTO:+0100
TZNAME:CET
DTSTART:19701025T030000
RRULE:FREQ=YEARLY;INTERVAL=1;BYDAY=-1SU;BYMONTH=10
END:STANDARD
END:VTIMEZONE
BEGIN:VEVENT
DTSTAMP:20260423T163112
DTSTART;TZID=Europe/Berlin:20260415T171500
DTEND;TZID=Europe/Berlin:20260415T183000
UID:261-30116-20260415T171500@VHSWALDSHUT-TIENGEN
SUMMARY:Yoga und das Schaffen von Lebenskräften (261-30116) 
LOCATION:Carl-Heinrich-Rösch-Schule Tiengen; Gymnastikraum, Wutachstraße 14 - Schulzentrum, 79761 Waldshut-Tiengen
END:VEVENT
BEGIN:VEVENT
DTSTAMP:20260423T163112
DTSTART;TZID=Europe/Berlin:20260422T171500
DTEND;TZID=Europe/Berlin:20260422T183000
UID:261-30116-20260422T171500@VHSWALDSHUT-TIENGEN
SUMMARY:Yoga und das Schaffen von Lebenskräften (261-30116) 
LOCATION:Carl-Heinrich-Rösch-Schule Tiengen; Gymnastikraum, Wutachstraße 14 - Schulzentrum, 79761 Waldshut-Tiengen
END:VEVENT
BEGIN:VEVENT
DTSTAMP:20260423T163112
DTSTART;TZID=Europe/Berlin:20260429T171500
DTEND;TZID=Europe/Berlin:20260429T183000
UID:261-30116-20260429T171500@VHSWALDSHUT-TIENGEN
SUMMARY:Yoga und das Schaffen von Lebenskräften (261-30116) 
LOCATION:Carl-Heinrich-Rösch-Schule Tiengen; Gymnastikraum, Wutachstraße 14 - Schulzentrum, 79761 Waldshut-Tiengen
END:VEVENT
BEGIN:VEVENT
DTSTAMP:20260423T163112
DTSTART;TZID=Europe/Berlin:20260506T171500
DTEND;TZID=Europe/Berlin:20260506T183000
UID:261-30116-20260506T171500@VHSWALDSHUT-TIENGEN
SUMMARY:Yoga und das Schaffen von Lebenskräften (261-30116) 
LOCATION:Carl-Heinrich-Rösch-Schule Tiengen; Gymnastikraum, Wutachstraße 14 - Schulzentrum, 79761 Waldshut-Tiengen
END:VEVENT
BEGIN:VEVENT
DTSTAMP:20260423T163112
DTSTART;TZID=Europe/Berlin:20260520T171500
DTEND;TZID=Europe/Berlin:20260520T183000
UID:261-30116-20260520T171500@VHSWALDSHUT-TIENGEN
SUMMARY:Yoga und das Schaffen von Lebenskräften (261-30116) 
LOCATION:Carl-Heinrich-Rösch-Schule Tiengen; Gymnastikraum, Wutachstraße 14 - Schulzentrum, 79761 Waldshut-Tiengen
END:VEVENT
BEGIN:VEVENT
DTSTAMP:20260423T163112
DTSTART;TZID=Europe/Berlin:20260610T171500
DTEND;TZID=Europe/Berlin:20260610T183000
UID:261-30116-20260610T171500@VHSWALDSHUT-TIENGEN
SUMMARY:Yoga und das Schaffen von Lebenskräften (261-30116) 
LOCATION:Carl-Heinrich-Rösch-Schule Tiengen; Gymnastikraum, Wutachstraße 14 - Schulzentrum, 79761 Waldshut-Tiengen
END:VEVENT
BEGIN:VEVENT
DTSTAMP:20260423T163112
DTSTART;TZID=Europe/Berlin:20260617T171500
DTEND;TZID=Europe/Berlin:20260617T183000
UID:261-30116-20260617T171500@VHSWALDSHUT-TIENGEN
SUMMARY:Yoga und das Schaffen von Lebenskräften (261-30116) 
LOCATION:Carl-Heinrich-Rösch-Schule Tiengen; Gymnastikraum, Wutachstraße 14 - Schulzentrum, 79761 Waldshut-Tiengen
END:VEVENT
BEGIN:VEVENT
DTSTAMP:20260423T163112
DTSTART;TZID=Europe/Berlin:20260624T171500
DTEND;TZID=Europe/Berlin:20260624T183000
UID:261-30116-20260624T171500@VHSWALDSHUT-TIENGEN
SUMMARY:Yoga und das Schaffen von Lebenskräften (261-30116) 
LOCATION:Carl-Heinrich-Rösch-Schule Tiengen; Gymnastikraum, Wutachstraße 14 - Schulzentrum, 79761 Waldshut-Tiengen
END:VEVENT
BEGIN:VEVENT
DTSTAMP:20260423T163112
DTSTART;TZID=Europe/Berlin:20260701T171500
DTEND;TZID=Europe/Berlin:20260701T183000
UID:261-30116-20260701T171500@VHSWALDSHUT-TIENGEN
SUMMARY:Yoga und das Schaffen von Lebenskräften (261-30116) 
LOCATION:Carl-Heinrich-Rösch-Schule Tiengen; Gymnastikraum, Wutachstraße 14 - Schulzentrum, 79761 Waldshut-Tiengen
END:VEVENT
BEGIN:VEVENT
DTSTAMP:20260423T163112
DTSTART;TZID=Europe/Berlin:20260708T171500
DTEND;TZID=Europe/Berlin:20260708T183000
UID:261-30116-20260708T171500@VHSWALDSHUT-TIENGEN
SUMMARY:Yoga und das Schaffen von Lebenskräften (261-30116) 
LOCATION:Carl-Heinrich-Rösch-Schule Tiengen; Gymnastikraum, Wutachstraße 14 - Schulzentrum, 79761 Waldshut-Tiengen
END:VEVENT
END:VCALENDAR