BEGIN:VCALENDAR
VERSION:2.0
PRODID:https://www.kufer.de/kuferweb / DE
METHOD:PUBLISH
CALSCALE:GREGORIAN
X-WR-TIMEZONE:Europe/Berlin
BEGIN:VTIMEZONE
TZID:Europe/Berlin
X-LIC-LOCATION:Europe/Berlin
BEGIN:DAYLIGHT
TZOFFSETFROM:+0100
TZOFFSETTO:+0200
TZNAME:CEST
DTSTART:19700329T020000
RRULE:FREQ=YEARLY;INTERVAL=1;BYDAY=-1SU;BYMONTH=3
END:DAYLIGHT
BEGIN:STANDARD
TZOFFSETFROM:+0200
TZOFFSETTO:+0100
TZNAME:CET
DTSTART:19701025T030000
RRULE:FREQ=YEARLY;INTERVAL=1;BYDAY=-1SU;BYMONTH=10
END:STANDARD
END:VTIMEZONE
BEGIN:VEVENT
DTSTAMP:20260423T163143
DTSTART;TZID=Europe/Berlin:20260413T190000
DTEND;TZID=Europe/Berlin:20260413T210000
UID:261-20711-20260413T190000@VHSWALDSHUT-TIENGEN
SUMMARY:Acrylmalerei und neue Mixed Media Techniken (14-tägiger Malkurs für Anfänger*innen und leicht Fortgeschrittene / aber auch für Fortgeschrittene gibt es bei Bedarf ein Angebot!) (261-20711) 
LOCATION:Hochrhein Gymnasium Waldshut; Kunstraum U.42, Waldtorstraße 8, 79761 Waldshut-Tiengen
END:VEVENT
BEGIN:VEVENT
DTSTAMP:20260423T163143
DTSTART;TZID=Europe/Berlin:20260427T190000
DTEND;TZID=Europe/Berlin:20260427T210000
UID:261-20711-20260427T190000@VHSWALDSHUT-TIENGEN
SUMMARY:Acrylmalerei und neue Mixed Media Techniken (14-tägiger Malkurs für Anfänger*innen und leicht Fortgeschrittene / aber auch für Fortgeschrittene gibt es bei Bedarf ein Angebot!) (261-20711) 
LOCATION:Hochrhein Gymnasium Waldshut; Kunstraum U.42, Waldtorstraße 8, 79761 Waldshut-Tiengen
END:VEVENT
BEGIN:VEVENT
DTSTAMP:20260423T163143
DTSTART;TZID=Europe/Berlin:20260504T190000
DTEND;TZID=Europe/Berlin:20260504T210000
UID:261-20711-20260504T190000@VHSWALDSHUT-TIENGEN
SUMMARY:Acrylmalerei und neue Mixed Media Techniken (14-tägiger Malkurs für Anfänger*innen und leicht Fortgeschrittene / aber auch für Fortgeschrittene gibt es bei Bedarf ein Angebot!) (261-20711) 
LOCATION:Hochrhein Gymnasium Waldshut; Kunstraum U.42, Waldtorstraße 8, 79761 Waldshut-Tiengen
END:VEVENT
BEGIN:VEVENT
DTSTAMP:20260423T163143
DTSTART;TZID=Europe/Berlin:20260518T190000
DTEND;TZID=Europe/Berlin:20260518T210000
UID:261-20711-20260518T190000@VHSWALDSHUT-TIENGEN
SUMMARY:Acrylmalerei und neue Mixed Media Techniken (14-tägiger Malkurs für Anfänger*innen und leicht Fortgeschrittene / aber auch für Fortgeschrittene gibt es bei Bedarf ein Angebot!) (261-20711) 
LOCATION:Hochrhein Gymnasium Waldshut; Kunstraum U.42, Waldtorstraße 8, 79761 Waldshut-Tiengen
END:VEVENT
BEGIN:VEVENT
DTSTAMP:20260423T163143
DTSTART;TZID=Europe/Berlin:20260608T190000
DTEND;TZID=Europe/Berlin:20260608T210000
UID:261-20711-20260608T190000@VHSWALDSHUT-TIENGEN
SUMMARY:Acrylmalerei und neue Mixed Media Techniken (14-tägiger Malkurs für Anfänger*innen und leicht Fortgeschrittene / aber auch für Fortgeschrittene gibt es bei Bedarf ein Angebot!) (261-20711) 
LOCATION:Hochrhein Gymnasium Waldshut; Kunstraum U.42, Waldtorstraße 8, 79761 Waldshut-Tiengen
END:VEVENT
BEGIN:VEVENT
DTSTAMP:20260423T163143
DTSTART;TZID=Europe/Berlin:20260622T190000
DTEND;TZID=Europe/Berlin:20260622T210000
UID:261-20711-20260622T190000@VHSWALDSHUT-TIENGEN
SUMMARY:Acrylmalerei und neue Mixed Media Techniken (14-tägiger Malkurs für Anfänger*innen und leicht Fortgeschrittene / aber auch für Fortgeschrittene gibt es bei Bedarf ein Angebot!) (261-20711) 
LOCATION:Hochrhein Gymnasium Waldshut; Kunstraum U.42, Waldtorstraße 8, 79761 Waldshut-Tiengen
END:VEVENT
END:VCALENDAR