BEGIN:VCALENDAR
VERSION:2.0
PRODID:https://www.kufer.de/kuferweb / DE
METHOD:PUBLISH
CALSCALE:GREGORIAN
X-WR-TIMEZONE:Europe/Berlin
BEGIN:VTIMEZONE
TZID:Europe/Berlin
X-LIC-LOCATION:Europe/Berlin
BEGIN:DAYLIGHT
TZOFFSETFROM:+0100
TZOFFSETTO:+0200
TZNAME:CEST
DTSTART:19700329T020000
RRULE:FREQ=YEARLY;INTERVAL=1;BYDAY=-1SU;BYMONTH=3
END:DAYLIGHT
BEGIN:STANDARD
TZOFFSETFROM:+0200
TZOFFSETTO:+0100
TZNAME:CET
DTSTART:19701025T030000
RRULE:FREQ=YEARLY;INTERVAL=1;BYDAY=-1SU;BYMONTH=10
END:STANDARD
END:VTIMEZONE
BEGIN:VEVENT
DTSTAMP:20260423T090053
DTSTART;TZID=Europe/Berlin:20260428T190000
DTEND;TZID=Europe/Berlin:20260428T203000
UID:261-10540-20260428T190000@VHSWALDSHUT-TIENGEN
SUMMARY:Schnurrstracks zum Katzentraum: der perfekte Guide zu Anschaffung, Haltung und Verhalten der Katze (Vortrag für Einsteiger*innen, zukünftige Katzenhalter*innen oder neugierige Tierliebhaber*innen) (261-10540) 
LOCATION:vhs-Geschäftsstelle Waldshut, Löwengasse 1, 79761 Waldshut
END:VEVENT
END:VCALENDAR